BEGIN:VCALENDAR
VERSION:2.0
PRODID:-// - ECPv6.15.17.1//NONSGML v1.0//EN
CALSCALE:GREGORIAN
METHOD:PUBLISH
X-ORIGINAL-URL:https://linestormplaywrights.com
X-WR-CALDESC:Events for 
REFRESH-INTERVAL;VALUE=DURATION:PT1H
X-Robots-Tag:noindex
X-PUBLISHED-TTL:PT1H
BEGIN:VTIMEZONE
TZID:UTC
BEGIN:STANDARD
TZOFFSETFROM:+0000
TZOFFSETTO:+0000
TZNAME:UTC
DTSTART:20180101T000000
END:STANDARD
END:VTIMEZONE
BEGIN:VEVENT
DTSTART;TZID=UTC:20200131T120000
DTEND;TZID=UTC:20200131T140000
DTSTAMP:20260420T180028
CREATED:20200104T005535Z
LAST-MODIFIED:20200104T010044Z
UID:1307-1580472000-1580479200@linestormplaywrights.com
SUMMARY:Fertile Ground reading: DESCENT FROM THE ANDES by Rich Rubin
DESCRIPTION:
URL:https://linestormplaywrights.com/calendar/fertile-ground-descent-from-the-andes-by-rich-rubin
LOCATION:Chapel Theatre
END:VEVENT
BEGIN:VEVENT
DTSTART;TZID=UTC:20200130T120000
DTEND;TZID=UTC:20200130T140000
DTSTAMP:20260420T180028
CREATED:20190812T031837Z
LAST-MODIFIED:20200104T010051Z
UID:1190-1580385600-1580392800@linestormplaywrights.com
SUMMARY:Fertile Ground reading: AGATHA CHRISTIE'S THE MYSTERIOUS AFFAIR AT STYLES adapted by Matthew Miller
DESCRIPTION:
URL:https://linestormplaywrights.com/calendar/fertile-ground-festival-1-30-2-9
LOCATION:Chapel Theatre
END:VEVENT
BEGIN:VEVENT
DTSTART;TZID=UTC:20200114T190000
DTEND;TZID=UTC:20200114T210000
DTSTAMP:20260420T180028
CREATED:20191210T052434Z
LAST-MODIFIED:20191210T052434Z
UID:1276-1579028400-1579035600@linestormplaywrights.com
SUMMARY:Monthly Meeting\, January @ Sanctuary Theatre (1785 NE Sandy Blvd)\, Cabaret Room
DESCRIPTION:
URL:https://linestormplaywrights.com/calendar/monthly-meeting-january-sanctuary-theatre-1785-ne-sandy-blvd-cabaret-room
END:VEVENT
BEGIN:VEVENT
DTSTART;TZID=UTC:20191210T190000
DTEND;TZID=UTC:20191210T210000
DTSTAMP:20260420T180028
CREATED:20190811T194401Z
LAST-MODIFIED:20191210T052045Z
UID:1180-1576004400-1576011600@linestormplaywrights.com
SUMMARY:Monthly Meeting\, December @ Sanctuary Theatre (1785 NE Sandy Blvd)\, Cabaret Room
DESCRIPTION:
URL:https://linestormplaywrights.com/calendar/monthly-meeting-december-location-tba
END:VEVENT
BEGIN:VEVENT
DTSTART;TZID=UTC:20191112T190000
DTEND;TZID=UTC:20191112T210000
DTSTAMP:20260420T180028
CREATED:20190811T194307Z
LAST-MODIFIED:20191105T231649Z
UID:1178-1573585200-1573592400@linestormplaywrights.com
SUMMARY:Monthly Meeting\, November @ location: Sanctuary Theatre (1785 NE Sandy Blvd) Cabaret Room
DESCRIPTION:
URL:https://linestormplaywrights.com/calendar/monthly-meeting-november-location-tba
END:VEVENT
BEGIN:VEVENT
DTSTART;TZID=UTC:20191007T190000
DTEND;TZID=UTC:20191007T210000
DTSTAMP:20260420T180028
CREATED:20190811T193805Z
LAST-MODIFIED:20191005T153348Z
UID:1173-1570474800-1570482000@linestormplaywrights.com
SUMMARY:Playwright Meeting\, October: LP member meeting.
DESCRIPTION:
URL:https://linestormplaywrights.com/calendar/monthly-meeting-october-location-tba
END:VEVENT
BEGIN:VEVENT
DTSTART;TZID=UTC:20191006T193000
DTEND;TZID=UTC:20191006T213000
DTSTAMP:20260420T180028
CREATED:20190811T194050Z
LAST-MODIFIED:20190811T194050Z
UID:1175-1570390200-1570397400@linestormplaywrights.com
SUMMARY:Bimonthly reading: WELCOME TO ZION by Holly Richards @ Broadway Rose
DESCRIPTION:
URL:https://linestormplaywrights.com/calendar/bimonthly-reading-welcome-to-zion-by-holly-richards-broadway-rose
LOCATION:Broadway Rose Theatre\, 12850 SW Grant Ave.\, Tigard\, OR\, 97223\, United States
END:VEVENT
BEGIN:VEVENT
DTSTART;TZID=UTC:20190910T190000
DTEND;TZID=UTC:20190910T210000
DTSTAMP:20260420T180028
CREATED:20190811T193620Z
LAST-MODIFIED:20190909T220352Z
UID:1169-1568142000-1568149200@linestormplaywrights.com
SUMMARY:Monthly Meeting\, September @ Artists Rep/Zidell Building
DESCRIPTION:
URL:https://linestormplaywrights.com/calendar/monthly-meeting-location-tba
LOCATION:Zidell Building\, downstairs space\, 3121 SW Moody Ave.\, 3121 SW Moody Ave.
END:VEVENT
BEGIN:VEVENT
DTSTART;TZID=UTC:20190813T190000
DTEND;TZID=UTC:20190813T210000
DTSTAMP:20260420T180028
CREATED:20190811T170254Z
LAST-MODIFIED:20190812T031448Z
UID:1153-1565722800-1565730000@linestormplaywrights.com
SUMMARY:Monthly Meeting\, August @ Shaking the Tree Theatre
DESCRIPTION:
URL:https://linestormplaywrights.com/calendar/monthly-meeting-august-shaking-the-tree-theatre
LOCATION:Shaking the Tree Theatre\, 823 SE Grant Street\, Portland\, OR\, 97214\, United States
END:VEVENT
END:VCALENDAR