BEGIN:VCALENDAR
VERSION:2.0
PRODID:-// - ECPv6.15.17.1//NONSGML v1.0//EN
CALSCALE:GREGORIAN
METHOD:PUBLISH
X-ORIGINAL-URL:https://linestormplaywrights.com
X-WR-CALDESC:Events for 
REFRESH-INTERVAL;VALUE=DURATION:PT1H
X-Robots-Tag:noindex
X-PUBLISHED-TTL:PT1H
BEGIN:VTIMEZONE
TZID:UTC
BEGIN:STANDARD
TZOFFSETFROM:+0000
TZOFFSETTO:+0000
TZNAME:UTC
DTSTART:20180101T000000
END:STANDARD
END:VTIMEZONE
BEGIN:VEVENT
DTSTART;TZID=UTC:20231130T080000
DTEND;TZID=UTC:20231130T170000
DTSTAMP:20260420T125933
CREATED:20231130T231620Z
LAST-MODIFIED:20231130T231620Z
UID:2690-1701331200-1701363600@linestormplaywrights.com
SUMMARY:Lewis and HOLMES Are on the CASE!
DESCRIPTION:Listen to E. M. Lewis discuss her new opera\, SHERLOCK HOLMES AND THE CASE OF THE FALLEN GIANT on Portland’s All Classical Radio: \nNovember 30\, 2023 @ 3:00 p.m. \nPerformances at PSU\, November 25 – December 3\, 2023
URL:https://linestormplaywrights.com/calendar/lewis-and-holmes-are-on-the-case
END:VEVENT
BEGIN:VEVENT
DTSTART;TZID=UTC:20231105T170000
DTEND;TZID=UTC:20231105T190000
DTSTAMP:20260420T125933
CREATED:20231102T020546Z
LAST-MODIFIED:20231102T020546Z
UID:2658-1699203600-1699210800@linestormplaywrights.com
SUMMARY:Bimonthly Reading Series: APPLE HUNTERS by E. M. Lewis
DESCRIPTION:
URL:https://linestormplaywrights.com/calendar/bimonthly-reading-series-apple-hunters-by-e-m-lewis
LOCATION:Portland Center Stage\, 128 NW 11th Ave\, Portland\, OR\, 97209\, United States
END:VEVENT
BEGIN:VEVENT
DTSTART;TZID=UTC:20210620T170000
DTEND;TZID=UTC:20210620T190000
DTSTAMP:20260420T125933
CREATED:20210604T190040Z
LAST-MODIFIED:20210604T190146Z
UID:2068-1624208400-1624215600@linestormplaywrights.com
SUMMARY:HANNAH + THE HEALING STONE
DESCRIPTION:
URL:https://linestormplaywrights.com/calendar/hannah-the-healing-stone-2
END:VEVENT
BEGIN:VEVENT
DTSTART;TZID=UTC:20210619T170000
DTEND;TZID=UTC:20210619T190000
DTSTAMP:20260420T125933
CREATED:20210604T185954Z
LAST-MODIFIED:20210604T190247Z
UID:2066-1624122000-1624129200@linestormplaywrights.com
SUMMARY:HANNAH + THE HEALING STONE
DESCRIPTION:
URL:https://linestormplaywrights.com/calendar/hannah-the-healing-stone
END:VEVENT
BEGIN:VEVENT
DTSTART;TZID=UTC:20210206T120000
DTEND;TZID=UTC:20210206T133000
DTSTAMP:20260420T125933
CREATED:20210125T000632Z
LAST-MODIFIED:20210125T000632Z
UID:1800-1612612800-1612618200@linestormplaywrights.com
SUMMARY:Fertile Ground: FEZZIWIG'S FORTUNE by Sara Jean Accuardi & Josie Seid
DESCRIPTION:
URL:https://linestormplaywrights.com/calendar/fertile-ground-fezziwigs-fortune-by-sara-jean-accuardi-josie-seid
END:VEVENT
BEGIN:VEVENT
DTSTART;TZID=UTC:20210204T120000
DTEND;TZID=UTC:20210204T123000
DTSTAMP:20260420T125933
CREATED:20210125T000439Z
LAST-MODIFIED:20210125T000501Z
UID:1797-1612440000-1612441800@linestormplaywrights.com
SUMMARY:Fertile Ground: COPPING OUT Short Films
DESCRIPTION:
URL:https://linestormplaywrights.com/calendar/fertile-ground-copping-out-short-films
END:VEVENT
BEGIN:VEVENT
DTSTART;TZID=UTC:20210128T120000
DTEND;TZID=UTC:20210128T130000
DTSTAMP:20260420T125933
CREATED:20210125T000302Z
LAST-MODIFIED:20210125T000302Z
UID:1795-1611835200-1611838800@linestormplaywrights.com
SUMMARY:Fertile Ground: ONE PIG\, TWO PIG\, THREE PIG\, BLUE PIG by Matthew Miller
DESCRIPTION:
URL:https://linestormplaywrights.com/calendar/fertile-ground-one-pig-two-pig-three-pig-blue-pig-by-matthew-miller
END:VEVENT
BEGIN:VEVENT
DTSTART;TZID=UTC:20210127T190000
DTEND;TZID=UTC:20210127T210000
DTSTAMP:20260420T125933
CREATED:20210125T000937Z
LAST-MODIFIED:20210125T000937Z
UID:1802-1611774000-1611781200@linestormplaywrights.com
SUMMARY:DG Footlights reading: COMMUNITY by Anya Pearson
DESCRIPTION:
URL:https://linestormplaywrights.com/calendar/dg-footlights-reading-community-by-anya-pearson
END:VEVENT
BEGIN:VEVENT
DTSTART;TZID=UTC:20200414T190000
DTEND;TZID=UTC:20200414T210000
DTSTAMP:20260420T125933
CREATED:20200229T221909Z
LAST-MODIFIED:20200319T042349Z
UID:1373-1586890800-1586898000@linestormplaywrights.com
SUMMARY:CANCELED: Monthly Meeting\, April
DESCRIPTION:
URL:https://linestormplaywrights.com/calendar/monthly-meeting-april-sanctuary-theatre-1785-ne-sandy-blvd-cabaret-room
END:VEVENT
BEGIN:VEVENT
DTSTART;TZID=UTC:20200311T190000
DTEND;TZID=UTC:20200311T210000
DTSTAMP:20260420T125933
CREATED:20200229T221350Z
LAST-MODIFIED:20200229T221651Z
UID:1371-1583953200-1583960400@linestormplaywrights.com
SUMMARY:Monthly Meeting\, March @ Sanctuary Theatre (1785 NE Sandy Blvd)\, Cabaret Room
DESCRIPTION:
URL:https://linestormplaywrights.com/calendar/monthly-meeting-march-sanctuary-theatre-1785-ne-sandy-blvd-cabaret-room
END:VEVENT
BEGIN:VEVENT
DTSTART;TZID=UTC:20200211T190000
DTEND;TZID=UTC:20200211T210000
DTSTAMP:20260420T125933
CREATED:20191210T052612Z
LAST-MODIFIED:20191210T052612Z
UID:1278-1581447600-1581454800@linestormplaywrights.com
SUMMARY:Monthly Meeting\, February @ Sanctuary Theatre (1785 NE Sandy Blvd)\, Cabaret Room
DESCRIPTION:
URL:https://linestormplaywrights.com/calendar/monthly-meeting-february-sanctuary-theatre-1785-ne-sandy-blvd-cabaret-room
END:VEVENT
BEGIN:VEVENT
DTSTART;TZID=UTC:20200209T180000
DTEND;TZID=UTC:20200209T200000
DTSTAMP:20260420T125933
CREATED:20200104T011427Z
LAST-MODIFIED:20200104T011427Z
UID:1327-1581271200-1581278400@linestormplaywrights.com
SUMMARY:Fertile Ground reading: AND EVERYTHING NICE by Sara Jean Accuardi
DESCRIPTION:
URL:https://linestormplaywrights.com/calendar/fertile-ground-reading-and-everything-nice-by-sara-jean-accuardi
LOCATION:Chapel Theatre
END:VEVENT
BEGIN:VEVENT
DTSTART;TZID=UTC:20200208T120000
DTEND;TZID=UTC:20200208T140000
DTSTAMP:20260420T125933
CREATED:20200104T011334Z
LAST-MODIFIED:20200104T011334Z
UID:1325-1581163200-1581170400@linestormplaywrights.com
SUMMARY:Fertile Ground reading: HANNAH AND OTHER STORIES by Dan Kitrosser
DESCRIPTION:
URL:https://linestormplaywrights.com/calendar/fertile-ground-reading-hannah-and-other-stories-by-dan-kitrosser
LOCATION:Chapel Theatre
END:VEVENT
BEGIN:VEVENT
DTSTART;TZID=UTC:20200207T120000
DTEND;TZID=UTC:20200207T140000
DTSTAMP:20260420T125933
CREATED:20200104T011242Z
LAST-MODIFIED:20200104T011242Z
UID:1323-1581076800-1581084000@linestormplaywrights.com
SUMMARY:Fertile Ground: SONGS FROM THE STAGE by E M Lewis and Holly Richards
DESCRIPTION:
URL:https://linestormplaywrights.com/calendar/fertile-ground-songs-from-the-stage-by-e-m-lewis-and-holly-richards
LOCATION:Chapel Theatre
END:VEVENT
BEGIN:VEVENT
DTSTART;TZID=UTC:20200206T120000
DTEND;TZID=UTC:20200206T140000
DTSTAMP:20260420T125933
CREATED:20200104T011133Z
LAST-MODIFIED:20200104T011133Z
UID:1321-1580990400-1580997600@linestormplaywrights.com
SUMMARY:Fertile Ground reading: SMALL BITES short plays by LineStorm and friends
DESCRIPTION:
URL:https://linestormplaywrights.com/calendar/fertile-ground-reading-small-bites-short-plays-by-linestorm-and-friends
LOCATION:Chapel Theatre
END:VEVENT
BEGIN:VEVENT
DTSTART;TZID=UTC:20200205T120000
DTEND;TZID=UTC:20200205T140000
DTSTAMP:20260420T125933
CREATED:20200104T011034Z
LAST-MODIFIED:20200104T011034Z
UID:1319-1580904000-1580911200@linestormplaywrights.com
SUMMARY:Fertile Ground reading: DOROTHY'S DICTIONARY by E M Lewis
DESCRIPTION:
URL:https://linestormplaywrights.com/calendar/fertile-ground-reading-dorothys-dictionary-by-e-m-lewis
LOCATION:Chapel Theatre
END:VEVENT
BEGIN:VEVENT
DTSTART;TZID=UTC:20200204T120000
DTEND;TZID=UTC:20200204T140000
DTSTAMP:20260420T125933
CREATED:20200104T010928Z
LAST-MODIFIED:20200104T010928Z
UID:1317-1580817600-1580824800@linestormplaywrights.com
SUMMARY:Fertile Ground reading: DISASTER SESSIONS devised by Audrey Block and Matt Pavik
DESCRIPTION:
URL:https://linestormplaywrights.com/calendar/fertile-ground-reading-disaster-sessions-devised-by-audrey-block-and-matt-pavik
LOCATION:Chapel Theatre
END:VEVENT
BEGIN:VEVENT
DTSTART;TZID=UTC:20200203T120000
DTEND;TZID=UTC:20200203T140000
DTSTAMP:20260420T125933
CREATED:20200104T010203Z
LAST-MODIFIED:20200104T010203Z
UID:1315-1580731200-1580738400@linestormplaywrights.com
SUMMARY:Fertile Ground reading: JOSE'S HEROES by Alan Alexander III
DESCRIPTION:
URL:https://linestormplaywrights.com/calendar/fertile-ground-reading-joses-heroes-by-alan-alexander-iii
LOCATION:Chapel Theatre
END:VEVENT
BEGIN:VEVENT
DTSTART;TZID=UTC:20200202T180000
DTEND;TZID=UTC:20200202T200000
DTSTAMP:20260420T125933
CREATED:20200104T010026Z
LAST-MODIFIED:20200104T010026Z
UID:1311-1580666400-1580673600@linestormplaywrights.com
SUMMARY:Fertile Ground reading: PATH OF GLORY by Josie Seid
DESCRIPTION:
URL:https://linestormplaywrights.com/calendar/fertile-ground-reading-path-of-glory-by-josie-seid
LOCATION:Chapel Theatre
END:VEVENT
BEGIN:VEVENT
DTSTART;TZID=UTC:20200201T120000
DTEND;TZID=UTC:20200201T140000
DTSTAMP:20260420T125933
CREATED:20200104T005801Z
LAST-MODIFIED:20200104T005801Z
UID:1309-1580558400-1580565600@linestormplaywrights.com
SUMMARY:Fertile Ground reading: PERSISTENT WORLD by Susan Faust
DESCRIPTION:
URL:https://linestormplaywrights.com/calendar/fertile-ground-reading-persistent-world-by-susan-faust
LOCATION:Chapel Theatre
END:VEVENT
BEGIN:VEVENT
DTSTART;TZID=UTC:20200131T120000
DTEND;TZID=UTC:20200131T140000
DTSTAMP:20260420T125933
CREATED:20200104T005535Z
LAST-MODIFIED:20200104T010044Z
UID:1307-1580472000-1580479200@linestormplaywrights.com
SUMMARY:Fertile Ground reading: DESCENT FROM THE ANDES by Rich Rubin
DESCRIPTION:
URL:https://linestormplaywrights.com/calendar/fertile-ground-descent-from-the-andes-by-rich-rubin
LOCATION:Chapel Theatre
END:VEVENT
BEGIN:VEVENT
DTSTART;TZID=UTC:20200130T120000
DTEND;TZID=UTC:20200130T140000
DTSTAMP:20260420T125933
CREATED:20190812T031837Z
LAST-MODIFIED:20200104T010051Z
UID:1190-1580385600-1580392800@linestormplaywrights.com
SUMMARY:Fertile Ground reading: AGATHA CHRISTIE'S THE MYSTERIOUS AFFAIR AT STYLES adapted by Matthew Miller
DESCRIPTION:
URL:https://linestormplaywrights.com/calendar/fertile-ground-festival-1-30-2-9
LOCATION:Chapel Theatre
END:VEVENT
BEGIN:VEVENT
DTSTART;TZID=UTC:20200114T190000
DTEND;TZID=UTC:20200114T210000
DTSTAMP:20260420T125933
CREATED:20191210T052434Z
LAST-MODIFIED:20191210T052434Z
UID:1276-1579028400-1579035600@linestormplaywrights.com
SUMMARY:Monthly Meeting\, January @ Sanctuary Theatre (1785 NE Sandy Blvd)\, Cabaret Room
DESCRIPTION:
URL:https://linestormplaywrights.com/calendar/monthly-meeting-january-sanctuary-theatre-1785-ne-sandy-blvd-cabaret-room
END:VEVENT
BEGIN:VEVENT
DTSTART;TZID=UTC:20191210T190000
DTEND;TZID=UTC:20191210T210000
DTSTAMP:20260420T125933
CREATED:20190811T194401Z
LAST-MODIFIED:20191210T052045Z
UID:1180-1576004400-1576011600@linestormplaywrights.com
SUMMARY:Monthly Meeting\, December @ Sanctuary Theatre (1785 NE Sandy Blvd)\, Cabaret Room
DESCRIPTION:
URL:https://linestormplaywrights.com/calendar/monthly-meeting-december-location-tba
END:VEVENT
BEGIN:VEVENT
DTSTART;TZID=UTC:20191112T190000
DTEND;TZID=UTC:20191112T210000
DTSTAMP:20260420T125933
CREATED:20190811T194307Z
LAST-MODIFIED:20191105T231649Z
UID:1178-1573585200-1573592400@linestormplaywrights.com
SUMMARY:Monthly Meeting\, November @ location: Sanctuary Theatre (1785 NE Sandy Blvd) Cabaret Room
DESCRIPTION:
URL:https://linestormplaywrights.com/calendar/monthly-meeting-november-location-tba
END:VEVENT
BEGIN:VEVENT
DTSTART;TZID=UTC:20191007T190000
DTEND;TZID=UTC:20191007T210000
DTSTAMP:20260420T125933
CREATED:20190811T193805Z
LAST-MODIFIED:20191005T153348Z
UID:1173-1570474800-1570482000@linestormplaywrights.com
SUMMARY:Playwright Meeting\, October: LP member meeting.
DESCRIPTION:
URL:https://linestormplaywrights.com/calendar/monthly-meeting-october-location-tba
END:VEVENT
BEGIN:VEVENT
DTSTART;TZID=UTC:20191006T193000
DTEND;TZID=UTC:20191006T213000
DTSTAMP:20260420T125933
CREATED:20190811T194050Z
LAST-MODIFIED:20190811T194050Z
UID:1175-1570390200-1570397400@linestormplaywrights.com
SUMMARY:Bimonthly reading: WELCOME TO ZION by Holly Richards @ Broadway Rose
DESCRIPTION:
URL:https://linestormplaywrights.com/calendar/bimonthly-reading-welcome-to-zion-by-holly-richards-broadway-rose
LOCATION:Broadway Rose Theatre\, 12850 SW Grant Ave.\, Tigard\, OR\, 97223\, United States
END:VEVENT
BEGIN:VEVENT
DTSTART;TZID=UTC:20190910T190000
DTEND;TZID=UTC:20190910T210000
DTSTAMP:20260420T125933
CREATED:20190811T193620Z
LAST-MODIFIED:20190909T220352Z
UID:1169-1568142000-1568149200@linestormplaywrights.com
SUMMARY:Monthly Meeting\, September @ Artists Rep/Zidell Building
DESCRIPTION:
URL:https://linestormplaywrights.com/calendar/monthly-meeting-location-tba
LOCATION:Zidell Building\, downstairs space\, 3121 SW Moody Ave.\, 3121 SW Moody Ave.
END:VEVENT
BEGIN:VEVENT
DTSTART;TZID=UTC:20190813T190000
DTEND;TZID=UTC:20190813T210000
DTSTAMP:20260420T125933
CREATED:20190811T170254Z
LAST-MODIFIED:20190812T031448Z
UID:1153-1565722800-1565730000@linestormplaywrights.com
SUMMARY:Monthly Meeting\, August @ Shaking the Tree Theatre
DESCRIPTION:
URL:https://linestormplaywrights.com/calendar/monthly-meeting-august-shaking-the-tree-theatre
LOCATION:Shaking the Tree Theatre\, 823 SE Grant Street\, Portland\, OR\, 97214\, United States
END:VEVENT
END:VCALENDAR